BEGIN:VCALENDAR
VERSION:2.0
PRODID:calendify.com
BEGIN:VEVENT
UID:calendify-session-K7NgQJVq4L8
DTSTART:20210207T145000Z
SEQUENCE:0
TRANSP:OPAQUE
DTEND:20210207T150500Z
URL:https://calendify.com/session/K7NgQJVq4L8
LOCATION:D.composition
SUMMARY:CycloneDX Software Bill of Materials
CLASS:PUBLIC
DESCRIPTION:https://calendify.com/session/K7NgQJVq4L8
DTSTAMP:20260423T214845Z
CREATED:20210111T170319Z
LAST-MODIFIED:20210208T224803Z
END:VEVENT
END:VCALENDAR