BEGIN:VCALENDAR
VERSION:2.0
PRODID:calendify.com
BEGIN:VEVENT
UID:calendify-session-K7NgQJXm4L8
DTSTART:20210206T140000Z
SEQUENCE:0
TRANSP:OPAQUE
DTEND:20210206T143000Z
URL:https://calendify.com/session/K7NgQJXm4L8
LOCATION:D.go
SUMMARY:Drones\, Virtual Reality and Multiplayer NES Games. The fun you can
  have with Pion WebRTC!
CLASS:PUBLIC
DESCRIPTION:https://calendify.com/session/K7NgQJXm4L8
DTSTAMP:20260423T191618Z
CREATED:20210122T190820Z
LAST-MODIFIED:20210208T224802Z
END:VEVENT
END:VCALENDAR