BEGIN:VCALENDAR
VERSION:2.0
PRODID:calendify.com
BEGIN:VEVENT
UID:calendify-session-K7NgQJom4L8
DTSTART:20210206T083000Z
SEQUENCE:0
TRANSP:OPAQUE
DTEND:20210206T090000Z
URL:https://calendify.com/session/K7NgQJom4L8
LOCATION:S.haarcourt
SUMMARY:Welcome to the stand for School of AI Port Haarcourt
CLASS:PUBLIC
DESCRIPTION:https://calendify.com/session/K7NgQJom4L8
DTSTAMP:20260419T194740Z
CREATED:20210125T190820Z
LAST-MODIFIED:20210208T224803Z
END:VEVENT
END:VCALENDAR