BEGIN:VCALENDAR
VERSION:2.0
PRODID:calendify.com
BEGIN:VEVENT
UID:calendify-session-K7NgQJwm4L8
DTSTART:20210206T120000Z
SEQUENCE:0
TRANSP:OPAQUE
DTEND:20210206T123000Z
URL:https://calendify.com/session/K7NgQJwm4L8
LOCATION:D.infra
SUMMARY:your management layer should be cattle too
CLASS:PUBLIC
DESCRIPTION:https://calendify.com/session/K7NgQJwm4L8
DTSTAMP:20260424T003319Z
CREATED:20210117T212646Z
LAST-MODIFIED:20210208T224802Z
END:VEVENT
END:VCALENDAR