BEGIN:VCALENDAR
VERSION:2.0
PRODID:calendify.com
BEGIN:VEVENT
UID:calendify-session-K7NgQRWB4L8
DTSTART:20241229T170000Z
SEQUENCE:0
TRANSP:OPAQUE
DTEND:20241229T180000Z
URL:https://calendify.com/session/K7NgQRWB4L8
LOCATION:B&B Wohnzimmerlounge
SUMMARY:Bits & Bäume Community Meetup
CLASS:PUBLIC
DESCRIPTION:https://calendify.com/session/K7NgQRWB4L8
DTSTAMP:20260423T084922Z
CREATED:20241227T141512Z
LAST-MODIFIED:20250101T225003Z
END:VEVENT
END:VCALENDAR