BEGIN:VCALENDAR
VERSION:2.0
PRODID:calendify.com
BEGIN:VEVENT
UID:calendify-session-K7NgQV1G4L8
DTSTART:20241228T235500Z
SEQUENCE:0
TRANSP:OPAQUE
DTEND:20241229T003500Z
URL:https://calendify.com/session/K7NgQV1G4L8
LOCATION:Saal ZIGZAG
SUMMARY:Kein Spaß am Gerät auf 'nem toten Planet(en)!
CLASS:PUBLIC
DESCRIPTION:https://calendify.com/session/K7NgQV1G4L8
DTSTAMP:20260423T231123Z
CREATED:20241213T162357Z
LAST-MODIFIED:20250101T225002Z
END:VEVENT
END:VCALENDAR