BEGIN:VCALENDAR
VERSION:2.0
PRODID:calendify.com
BEGIN:VEVENT
UID:calendify-session-K7NgQVRj4L8
DTSTART:20240921T160000Z
SEQUENCE:0
TRANSP:OPAQUE
DTEND:20240921T164500Z
URL:https://calendify.com/session/K7NgQVRj4L8
LOCATION:Henny Brenner Saal
SUMMARY:Reisebericht aus dem Mediendschungel
CLASS:PUBLIC
DESCRIPTION:https://calendify.com/session/K7NgQVRj4L8
DTSTAMP:20260422T110959Z
CREATED:20241208T220338Z
LAST-MODIFIED:20241208T220338Z
END:VEVENT
END:VCALENDAR