BEGIN:VCALENDAR
VERSION:2.0
PRODID:calendify.com
BEGIN:VEVENT
UID:calendify-session-K7NgQVkd4L8
DTSTART:20241230T115500Z
SEQUENCE:0
TRANSP:OPAQUE
DTEND:20241230T123500Z
URL:https://calendify.com/session/K7NgQVkd4L8
LOCATION:Saal GLITCH
SUMMARY:Going Long! Sending weird signals over long haul optical networks
CLASS:PUBLIC
DESCRIPTION:https://calendify.com/session/K7NgQVkd4L8
DTSTAMP:20260419T224133Z
CREATED:20241208T214809Z
LAST-MODIFIED:20250101T225004Z
END:VEVENT
END:VCALENDAR