BEGIN:VCALENDAR
VERSION:2.0
PRODID:calendify.com
BEGIN:VEVENT
UID:calendify-session-K7NgQW3jOL8
DTSTART:20220205T143000Z
SEQUENCE:0
TRANSP:OPAQUE
DTEND:20220205T150000Z
URL:https://calendify.com/session/K7NgQW3jOL8
LOCATION:D.retro
SUMMARY:AOSC OS/Retro - An Introduction
CLASS:PUBLIC
DESCRIPTION:https://calendify.com/session/K7NgQW3jOL8
DTSTAMP:20260422T095854Z
CREATED:20220120T214604Z
LAST-MODIFIED:20220206T225003Z
END:VEVENT
END:VCALENDAR