BEGIN:VCALENDAR
VERSION:2.0
PRODID:calendify.com
BEGIN:VEVENT
UID:calendify-session-K7NgQW8dOL8
DTSTART:20220205T105000Z
SEQUENCE:0
TRANSP:OPAQUE
DTEND:20220205T114000Z
URL:https://calendify.com/session/K7NgQW8dOL8
LOCATION:D.microkernel
SUMMARY:Genode meets the Pinephone
CLASS:PUBLIC
DESCRIPTION:https://calendify.com/session/K7NgQW8dOL8
DTSTAMP:20260420T140811Z
CREATED:20220120T214603Z
LAST-MODIFIED:20220206T225002Z
END:VEVENT
END:VCALENDAR