BEGIN:VCALENDAR
VERSION:2.0
PRODID:calendify.com
BEGIN:VEVENT
UID:calendify-session-K7NgQWAdOL8
DTSTART:20210318T144500Z
SEQUENCE:0
TRANSP:OPAQUE
DTEND:20210318T154500Z
URL:https://calendify.com/session/K7NgQWAdOL8
LOCATION:Zoom Room 3B
SUMMARY:Open Questions in a Warming World: Defining Our Audience
CLASS:PUBLIC
DESCRIPTION:https://calendify.com/session/K7NgQWAdOL8
DTSTAMP:20260420T233324Z
CREATED:20210426T094929Z
LAST-MODIFIED:20210426T094929Z
END:VEVENT
END:VCALENDAR