BEGIN:VCALENDAR
VERSION:2.0
PRODID:calendify.com
BEGIN:VEVENT
UID:calendify-session-K7NgQWddOL8
DTSTART:20220205T124500Z
SEQUENCE:0
TRANSP:OPAQUE
DTEND:20220205T130500Z
URL:https://calendify.com/session/K7NgQWddOL8
LOCATION:D.research
SUMMARY:Improve diagnostics of typhoid through Open Science: An Artificial 
 Intelligence-based technique
CLASS:PUBLIC
DESCRIPTION:https://calendify.com/session/K7NgQWddOL8
DTSTAMP:20260422T123623Z
CREATED:20220120T214603Z
LAST-MODIFIED:20220206T225003Z
END:VEVENT
END:VCALENDAR