BEGIN:VCALENDAR
VERSION:2.0
PRODID:calendify.com
BEGIN:VEVENT
UID:calendify-session-K7NgQWedOL8
DTSTART:20220205T134000Z
SEQUENCE:0
TRANSP:OPAQUE
DTEND:20220205T141500Z
URL:https://calendify.com/session/K7NgQWedOL8
LOCATION:D.raku
SUMMARY:Keeping the past to preserve the future
CLASS:PUBLIC
DESCRIPTION:https://calendify.com/session/K7NgQWedOL8
DTSTAMP:20260422T151037Z
CREATED:20220120T214604Z
LAST-MODIFIED:20220206T225003Z
END:VEVENT
END:VCALENDAR