BEGIN:VCALENDAR
VERSION:2.0
PRODID:calendify.com
BEGIN:VEVENT
UID:calendify-session-K7NgQWkDOL8
DTSTART:20210316T160000Z
SEQUENCE:0
TRANSP:OPAQUE
DTEND:20210316T161500Z
URL:https://calendify.com/session/K7NgQWkDOL8
LOCATION:Broadcast Talks
SUMMARY:MozFest Studio
CLASS:PUBLIC
DESCRIPTION:https://calendify.com/session/K7NgQWkDOL8
DTSTAMP:20260420T160049Z
CREATED:20210426T094929Z
LAST-MODIFIED:20210426T094929Z
END:VEVENT
END:VCALENDAR