BEGIN:VCALENDAR
VERSION:2.0
PRODID:calendify.com
BEGIN:VEVENT
UID:calendify-session-K7NgQWq9OL8
DTSTART:20211227T100000Z
SEQUENCE:0
TRANSP:OPAQUE
DTEND:20211227T103000Z
URL:https://calendify.com/session/K7NgQWq9OL8
LOCATION:Chaos-West TV
SUMMARY:Opening
CLASS:PUBLIC
DESCRIPTION:https://calendify.com/session/K7NgQWq9OL8
DTSTAMP:20260420T150112Z
CREATED:20211224T110101Z
LAST-MODIFIED:20211230T225002Z
END:VEVENT
END:VCALENDAR