BEGIN:VCALENDAR
VERSION:2.0
PRODID:calendify.com
BEGIN:VEVENT
UID:calendify-session-K7NgQWxaOL8
DTSTART:20211027T110000Z
SEQUENCE:0
TRANSP:OPAQUE
DTEND:20211027T120000Z
URL:https://calendify.com/session/K7NgQWxaOL8
LOCATION:Stream
SUMMARY:argo IT eG - die IT-Genossenschaft
CLASS:PUBLIC
DESCRIPTION:https://calendify.com/session/K7NgQWxaOL8
DTSTAMP:20260424T014001Z
CREATED:20210916T064746Z
LAST-MODIFIED:20211101T215003Z
END:VEVENT
END:VCALENDAR