BEGIN:VCALENDAR
VERSION:2.0
PRODID:calendify.com
BEGIN:VEVENT
UID:calendify-session-K7NgQb1D4L8
DTSTART:20190821T160000Z
SEQUENCE:0
TRANSP:OPAQUE
DTEND:20190821T164500Z
URL:https://calendify.com/session/K7NgQb1D4L8
LOCATION:Curie
SUMMARY:spispy: SPI flash device emulation
CLASS:PUBLIC
DESCRIPTION:https://calendify.com/session/K7NgQb1D4L8
DTSTAMP:20260424T215327Z
CREATED:20200513T001655Z
LAST-MODIFIED:20200513T003255Z
END:VEVENT
END:VCALENDAR