BEGIN:VCALENDAR
VERSION:2.0
PRODID:calendify.com
BEGIN:VEVENT
UID:calendify-session-K7NgQb3B4L8
DTSTART:20200202T140000Z
SEQUENCE:0
TRANSP:OPAQUE
DTEND:20200202T145500Z
URL:https://calendify.com/session/K7NgQb3B4L8
LOCATION:K.3.201
SUMMARY:Integrating new major components on fast and slow moving distributi
 ons
CLASS:PUBLIC
DESCRIPTION:https://calendify.com/session/K7NgQb3B4L8
DTSTAMP:20260423T191713Z
CREATED:20200513T234735Z
LAST-MODIFIED:20210426T093310Z
END:VEVENT
END:VCALENDAR