BEGIN:VCALENDAR
VERSION:2.0
PRODID:calendify.com
BEGIN:VEVENT
UID:calendify-session-K7NgQb924L8
DTSTART:20200201T093000Z
SEQUENCE:0
TRANSP:OPAQUE
DTEND:20200201T095500Z
URL:https://calendify.com/session/K7NgQb924L8
LOCATION:UD2.120 (Chavanne)
SUMMARY:Introducing Tanka
CLASS:PUBLIC
DESCRIPTION:https://calendify.com/session/K7NgQb924L8
DTSTAMP:20260423T044436Z
CREATED:20200513T234731Z
LAST-MODIFIED:20210426T093308Z
END:VEVENT
END:VCALENDAR