BEGIN:VCALENDAR
VERSION:2.0
PRODID:calendify.com
BEGIN:VEVENT
UID:calendify-session-K7NgQbDq4L8
DTSTART:20200201T142000Z
SEQUENCE:0
TRANSP:OPAQUE
DTEND:20200201T143500Z
URL:https://calendify.com/session/K7NgQbDq4L8
LOCATION:H.2215 (Ferrer)
SUMMARY:Optimizing sandbox creation with a FUSE file system
CLASS:PUBLIC
DESCRIPTION:https://calendify.com/session/K7NgQbDq4L8
DTSTAMP:20260422T151245Z
CREATED:20200513T234730Z
LAST-MODIFIED:20210426T093308Z
END:VEVENT
END:VCALENDAR