BEGIN:VCALENDAR
VERSION:2.0
PRODID:calendify.com
BEGIN:VEVENT
UID:calendify-session-K7NgQbLG4L8
DTSTART:20180512T203000Z
SEQUENCE:0
TRANSP:OPAQUE
DTEND:20180512T213000Z
URL:https://calendify.com/session/K7NgQbLG4L8
LOCATION:ZKM_OpenHUB
SUMMARY:Dezentrale soziale Netzwerke – Theorie und Praxis
CLASS:PUBLIC
DESCRIPTION:https://calendify.com/session/K7NgQbLG4L8
DTSTAMP:20260422T031153Z
CREATED:20200513T011828Z
LAST-MODIFIED:20200513T011828Z
END:VEVENT
END:VCALENDAR