BEGIN:VCALENDAR
VERSION:2.0
PRODID:calendify.com
BEGIN:VEVENT
UID:calendify-session-K7NgQbRm4L8
DTSTART:20190601T190000Z
SEQUENCE:0
TRANSP:OPAQUE
DTEND:20190601T193000Z
URL:https://calendify.com/session/K7NgQbRm4L8
LOCATION:HfG_Studio
SUMMARY:Using radar remote sensing to detect deforestation
CLASS:PUBLIC
DESCRIPTION:https://calendify.com/session/K7NgQbRm4L8
DTSTAMP:20260421T233907Z
CREATED:20200509T115117Z
LAST-MODIFIED:20200509T115117Z
END:VEVENT
END:VCALENDAR