BEGIN:VCALENDAR
VERSION:2.0
PRODID:calendify.com
BEGIN:VEVENT
UID:calendify-session-K7NgQbXa4L8
DTSTART:20200201T110000Z
SEQUENCE:0
TRANSP:OPAQUE
DTEND:20200201T120000Z
URL:https://calendify.com/session/K7NgQbXa4L8
LOCATION:J.1.106
SUMMARY:Sourcehut & aerc meetup
CLASS:PUBLIC
DESCRIPTION:https://calendify.com/session/K7NgQbXa4L8
DTSTAMP:20260422T174701Z
CREATED:20200513T234730Z
LAST-MODIFIED:20210426T093308Z
END:VEVENT
END:VCALENDAR