BEGIN:VCALENDAR
VERSION:2.0
PRODID:calendify.com
BEGIN:VEVENT
UID:calendify-session-K7NgQbZj4L8
DTSTART:20180511T140000Z
SEQUENCE:0
TRANSP:OPAQUE
DTEND:20180511T150000Z
URL:https://calendify.com/session/K7NgQbZj4L8
LOCATION:ZKM_OpenHUB
SUMMARY:Language Without Code: The Extremes of Nonprogrammable and Conceptu
 al Programming Languages
CLASS:PUBLIC
DESCRIPTION:https://calendify.com/session/K7NgQbZj4L8
DTSTAMP:20260422T031240Z
CREATED:20200513T011828Z
LAST-MODIFIED:20200513T011828Z
END:VEVENT
END:VCALENDAR