BEGIN:VCALENDAR
VERSION:2.0
PRODID:calendify.com
BEGIN:VEVENT
UID:calendify-session-K7NgQbaD4L8
DTSTART:20200202T152000Z
SEQUENCE:0
TRANSP:OPAQUE
DTEND:20200202T160000Z
URL:https://calendify.com/session/K7NgQbaD4L8
LOCATION:UB2.147
SUMMARY:Getting Your Virtual Hands On RIST
CLASS:PUBLIC
DESCRIPTION:https://calendify.com/session/K7NgQbaD4L8
DTSTAMP:20260422T095859Z
CREATED:20200513T234735Z
LAST-MODIFIED:20210426T093310Z
END:VEVENT
END:VCALENDAR