BEGIN:VCALENDAR
VERSION:2.0
PRODID:calendify.com
BEGIN:VEVENT
UID:calendify-session-K7NgQboa4L8
DTSTART:20200201T130000Z
SEQUENCE:0
TRANSP:OPAQUE
DTEND:20200201T135000Z
URL:https://calendify.com/session/K7NgQboa4L8
LOCATION:AW1.125
SUMMARY:Live Demo of Ada's Distribution Features
CLASS:PUBLIC
DESCRIPTION:https://calendify.com/session/K7NgQboa4L8
DTSTAMP:20260423T184123Z
CREATED:20200513T234730Z
LAST-MODIFIED:20210426T093308Z
END:VEVENT
END:VCALENDAR