BEGIN:VCALENDAR
VERSION:2.0
PRODID:calendify.com
BEGIN:VEVENT
UID:calendify-session-K7NgQbqa4L8
DTSTART:20200201T111000Z
SEQUENCE:0
TRANSP:OPAQUE
DTEND:20200201T113000Z
URL:https://calendify.com/session/K7NgQbqa4L8
LOCATION:K.3.401
SUMMARY:ERASER: Early-stage Reliability And Security Estimation for RISC-V
CLASS:PUBLIC
DESCRIPTION:https://calendify.com/session/K7NgQbqa4L8
DTSTAMP:20260420T172057Z
CREATED:20200513T234730Z
LAST-MODIFIED:20210426T093308Z
END:VEVENT
END:VCALENDAR