BEGIN:VCALENDAR
VERSION:2.0
PRODID:calendify.com
BEGIN:VEVENT
UID:calendify-session-K7NgQbwq4L8
DTSTART:20200201T104500Z
SEQUENCE:0
TRANSP:OPAQUE
DTEND:20200201T110500Z
URL:https://calendify.com/session/K7NgQbwq4L8
LOCATION:H.1309 (Van Rijn)
SUMMARY:State of djbdnscurve6
CLASS:PUBLIC
DESCRIPTION:https://calendify.com/session/K7NgQbwq4L8
DTSTAMP:20260421T050845Z
CREATED:20200513T234730Z
LAST-MODIFIED:20210426T093308Z
END:VEVENT
END:VCALENDAR