BEGIN:VCALENDAR
VERSION:2.0
PRODID:calendify.com
BEGIN:VEVENT
UID:calendify-session-K7NgQkABOL8
DTSTART:20161227T204500Z
SEQUENCE:0
TRANSP:OPAQUE
DTEND:20161227T214500Z
URL:https://calendify.com/session/K7NgQkABOL8
LOCATION:Saal 2
SUMMARY:Deploying TLS 1.3: the great\, the good and the bad
CLASS:PUBLIC
DESCRIPTION:https://calendify.com/session/K7NgQkABOL8
DTSTAMP:20260422T110927Z
CREATED:20220415T135302Z
LAST-MODIFIED:20220415T135302Z
END:VEVENT
END:VCALENDAR