BEGIN:VCALENDAR
VERSION:2.0
PRODID:calendify.com
BEGIN:VEVENT
UID:calendify-session-K7NgQkXaOL8
DTSTART:20220610T130000Z
SEQUENCE:0
TRANSP:OPAQUE
DTEND:20220610T140000Z
URL:https://calendify.com/session/K7NgQkXaOL8
LOCATION:Stage 2
SUMMARY:Living in a Quantum State
CLASS:PUBLIC
DESCRIPTION:https://calendify.com/session/K7NgQkXaOL8
DTSTAMP:20260423T150842Z
CREATED:20220526T162945Z
LAST-MODIFIED:20220613T235204Z
END:VEVENT
END:VCALENDAR