BEGIN:VCALENDAR
VERSION:2.0
PRODID:calendify.com
BEGIN:VEVENT
UID:calendify-session-K7NgQkeBOL8
DTSTART:20220611T184500Z
SEQUENCE:0
TRANSP:OPAQUE
DTEND:20220611T190000Z
URL:https://calendify.com/session/K7NgQkeBOL8
LOCATION:.txt Stage
SUMMARY:Das war die .txt!
CLASS:PUBLIC
DESCRIPTION:https://calendify.com/session/K7NgQkeBOL8
DTSTAMP:20260423T150832Z
CREATED:20220531T124133Z
LAST-MODIFIED:20220613T235205Z
END:VEVENT
END:VCALENDAR