BEGIN:VCALENDAR
VERSION:2.0
PRODID:calendify.com
BEGIN:VEVENT
UID:calendify-session-K7NgQkmBOL8
DTSTART:20161228T220000Z
SEQUENCE:0
TRANSP:OPAQUE
DTEND:20161228T230000Z
URL:https://calendify.com/session/K7NgQkmBOL8
LOCATION:Saal 2
SUMMARY:Shining some light on the Amazon Dash button
CLASS:PUBLIC
DESCRIPTION:https://calendify.com/session/K7NgQkmBOL8
DTSTAMP:20260422T084007Z
CREATED:20220415T135303Z
LAST-MODIFIED:20220415T135303Z
END:VEVENT
END:VCALENDAR