BEGIN:VCALENDAR
VERSION:2.0
PRODID:calendify.com
BEGIN:VEVENT
UID:calendify-session-K7NgQkrJOL8
DTSTART:20220206T090000Z
SEQUENCE:0
TRANSP:OPAQUE
DTEND:20220206T091500Z
URL:https://calendify.com/session/K7NgQkrJOL8
LOCATION:S.kde
SUMMARY:KDE News
CLASS:PUBLIC
DESCRIPTION:https://calendify.com/session/K7NgQkrJOL8
DTSTAMP:20260424T081436Z
CREATED:20220203T031003Z
LAST-MODIFIED:20220206T225004Z
END:VEVENT
END:VCALENDAR