BEGIN:VCALENDAR
VERSION:2.0
PRODID:calendify.com
BEGIN:VEVENT
UID:calendify-session-K7NgQm6dgL8
DTSTART:20231230T094200Z
SEQUENCE:0
TRANSP:OPAQUE
DTEND:20231230T102400Z
URL:https://calendify.com/session/K7NgQm6dgL8
LOCATION:Stage Y
SUMMARY:42?! Agile is dead - agility the answer to live the universe and ev
 erything
CLASS:PUBLIC
DESCRIPTION:https://calendify.com/session/K7NgQm6dgL8
DTSTAMP:20260423T055217Z
CREATED:20231227T134002Z
LAST-MODIFIED:20240401T142934Z
END:VEVENT
END:VCALENDAR