BEGIN:VCALENDAR
VERSION:2.0
PRODID:calendify.com
BEGIN:VEVENT
UID:calendify-session-K7NgQm8qgL8
DTSTART:20230901T170000Z
SEQUENCE:0
TRANSP:OPAQUE
DTEND:20230901T175000Z
URL:https://calendify.com/session/K7NgQm8qgL8
LOCATION:C120 - Arkanraum
SUMMARY:Mammuts Eating Grains of Salt - Faking Mastodon Statistics
CLASS:PUBLIC
DESCRIPTION:https://calendify.com/session/K7NgQm8qgL8
DTSTAMP:20260421T021947Z
CREATED:20240328T132702Z
LAST-MODIFIED:20240328T132702Z
END:VEVENT
END:VCALENDAR