BEGIN:VCALENDAR
VERSION:2.0
PRODID:calendify.com
BEGIN:VEVENT
UID:calendify-session-K7NgQmDBgL8
DTSTART:20231228T180000Z
SEQUENCE:0
TRANSP:OPAQUE
DTEND:20231228T184500Z
URL:https://calendify.com/session/K7NgQmDBgL8
LOCATION:Sendezentrum Stage (Saal F)
SUMMARY:NSU-Watch: Aufklären & Einmischen. Der Jahresrückblick 2023.
CLASS:PUBLIC
DESCRIPTION:https://calendify.com/session/K7NgQmDBgL8
DTSTAMP:20260423T015752Z
CREATED:20231224T230004Z
LAST-MODIFIED:20240401T142932Z
END:VEVENT
END:VCALENDAR