BEGIN:VCALENDAR
VERSION:2.0
PRODID:calendify.com
BEGIN:VEVENT
UID:calendify-session-K7NgQmJGgL8
DTSTART:20230723T100000Z
SEQUENCE:0
TRANSP:OPAQUE
DTEND:20230723T110000Z
URL:https://calendify.com/session/K7NgQmJGgL8
LOCATION:woanders
SUMMARY:Schmieden auf der IGER
CLASS:PUBLIC
DESCRIPTION:https://calendify.com/session/K7NgQmJGgL8
DTSTAMP:20260424T230104Z
CREATED:20230806T113705Z
LAST-MODIFIED:20230806T113705Z
END:VEVENT
END:VCALENDAR