BEGIN:VCALENDAR
VERSION:2.0
PRODID:calendify.com
BEGIN:VEVENT
UID:calendify-session-K7NgQmXDgL8
DTSTART:20231229T130000Z
SEQUENCE:0
TRANSP:OPAQUE
DTEND:20231229T135000Z
URL:https://calendify.com/session/K7NgQmXDgL8
LOCATION:Pseudoroom
SUMMARY:Beginner's workshop for activist climbing (Basisworkshop aktivistis
 ches Klettern)
CLASS:PUBLIC
DESCRIPTION:https://calendify.com/session/K7NgQmXDgL8
DTSTAMP:20260423T055217Z
CREATED:20231226T075002Z
LAST-MODIFIED:20240401T142932Z
END:VEVENT
END:VCALENDAR