BEGIN:VCALENDAR
VERSION:2.0
PRODID:calendify.com
BEGIN:VEVENT
UID:calendify-session-K7NgQmY2gL8
DTSTART:20231229T125000Z
SEQUENCE:0
TRANSP:OPAQUE
DTEND:20231229T133000Z
URL:https://calendify.com/session/K7NgQmY2gL8
LOCATION:Saal 1
SUMMARY:What is this? A machine learning model for ants?
CLASS:PUBLIC
DESCRIPTION:https://calendify.com/session/K7NgQmY2gL8
DTSTAMP:20260420T235716Z
CREATED:20231215T204820Z
LAST-MODIFIED:20240401T142932Z
END:VEVENT
END:VCALENDAR