BEGIN:VCALENDAR
VERSION:2.0
PRODID:calendify.com
BEGIN:VEVENT
UID:calendify-session-K7NgQmZBgL8
DTSTART:20231229T153000Z
SEQUENCE:0
TRANSP:OPAQUE
DTEND:20231229T170000Z
URL:https://calendify.com/session/K7NgQmZBgL8
LOCATION:Saal D
SUMMARY:3 years after uprising in Belarus - political situation and repress
 ions in the coutry
CLASS:PUBLIC
DESCRIPTION:https://calendify.com/session/K7NgQmZBgL8
DTSTAMP:20260425T032611Z
CREATED:20231221T100105Z
LAST-MODIFIED:20240401T142932Z
END:VEVENT
END:VCALENDAR