BEGIN:VCALENDAR
VERSION:2.0
PRODID:calendify.com
BEGIN:VEVENT
UID:calendify-session-K7NgQmoDgL8
DTSTART:20231228T220000Z
SEQUENCE:0
TRANSP:OPAQUE
DTEND:20231228T230000Z
URL:https://calendify.com/session/K7NgQmoDgL8
LOCATION:Round Table [CDC Saal 3]
SUMMARY:Tea Time: Enjoy a cup of tea and chat with the FOSSASIA community
CLASS:PUBLIC
DESCRIPTION:https://calendify.com/session/K7NgQmoDgL8
DTSTAMP:20260423T015633Z
CREATED:20231226T162002Z
LAST-MODIFIED:20240401T142932Z
END:VEVENT
END:VCALENDAR