BEGIN:VCALENDAR
VERSION:2.0
PRODID:calendify.com
BEGIN:VEVENT
UID:calendify-session-K7NgQmqDgL8
DTSTART:20231228T150000Z
SEQUENCE:0
TRANSP:OPAQUE
DTEND:20231228T170000Z
URL:https://calendify.com/session/K7NgQmqDgL8
LOCATION:Lounge
SUMMARY:dj workshop vinyl
CLASS:PUBLIC
DESCRIPTION:https://calendify.com/session/K7NgQmqDgL8
DTSTAMP:20260423T055232Z
CREATED:20231227T004003Z
LAST-MODIFIED:20240401T142932Z
END:VEVENT
END:VCALENDAR