BEGIN:VCALENDAR
VERSION:2.0
PRODID:calendify.com
BEGIN:VEVENT
UID:calendify-session-K7NgQmzJgL8
DTSTART:20240608T180000Z
SEQUENCE:0
TRANSP:OPAQUE
DTEND:20240608T200000Z
URL:https://calendify.com/session/K7NgQmzJgL8
LOCATION:Bühne
SUMMARY:Hacker*innen-Jeopardy!
CLASS:PUBLIC
DESCRIPTION:https://calendify.com/session/K7NgQmzJgL8
DTSTAMP:20260420T154831Z
CREATED:20240608T194121Z
LAST-MODIFIED:20240610T213338Z
END:VEVENT
END:VCALENDAR