BEGIN:VCALENDAR
VERSION:2.0
PRODID:calendify.com
BEGIN:VEVENT
UID:calendify-session-LPGMz3RagNd
DTSTART:20240921T123000Z
SEQUENCE:0
TRANSP:OPAQUE
DTEND:20240921T131500Z
URL:https://calendify.com/session/LPGMz3RagNd
LOCATION:Kabinett
SUMMARY:Openwashing ans Licht!
CLASS:PUBLIC
DESCRIPTION:https://calendify.com/session/LPGMz3RagNd
DTSTAMP:20260420T221103Z
CREATED:20241208T220338Z
LAST-MODIFIED:20241208T220338Z
END:VEVENT
END:VCALENDAR