BEGIN:VCALENDAR
VERSION:2.0
PRODID:calendify.com
BEGIN:VEVENT
UID:calendify-session-LPGMzE3AONd
DTSTART:20221227T130500Z
SEQUENCE:0
TRANSP:OPAQUE
DTEND:20221227T133500Z
URL:https://calendify.com/session/LPGMzE3AONd
LOCATION:Vortragsraum 2 - Bhavani - H1-5.2
SUMMARY:Kunst im Umbau - Workshops & Talks
CLASS:PUBLIC
DESCRIPTION:https://calendify.com/session/LPGMzE3AONd
DTSTAMP:20260420T141312Z
CREATED:20221224T133614Z
LAST-MODIFIED:20221230T225007Z
END:VEVENT
END:VCALENDAR