BEGIN:VCALENDAR
VERSION:2.0
PRODID:calendify.com
BEGIN:VEVENT
UID:calendify-session-LPGMzEpAONd
DTSTART:20221230T150000Z
SEQUENCE:0
TRANSP:OPAQUE
DTEND:20221230T153000Z
URL:https://calendify.com/session/LPGMzEpAONd
LOCATION:WICMP Seminarraum
SUMMARY:Tech-Reflexion: Wann ist es \"gut\"?
CLASS:PUBLIC
DESCRIPTION:https://calendify.com/session/LPGMzEpAONd
DTSTAMP:20260420T220839Z
CREATED:20221227T180006Z
LAST-MODIFIED:20221230T225006Z
END:VEVENT
END:VCALENDAR