BEGIN:VCALENDAR
VERSION:2.0
PRODID:calendify.com
BEGIN:VEVENT
UID:calendify-session-LPGMzQ7kONd
DTSTART:20231227T140000Z
SEQUENCE:0
TRANSP:OPAQUE
DTEND:20231227T160000Z
URL:https://calendify.com/session/LPGMzQ7kONd
LOCATION:Saal D
SUMMARY:KinkyGeeks Beginner bondage workshop 1 (Ticket required!)
CLASS:PUBLIC
DESCRIPTION:https://calendify.com/session/LPGMzQ7kONd
DTSTAMP:20260423T060006Z
CREATED:20231221T182736Z
LAST-MODIFIED:20240401T142932Z
END:VEVENT
END:VCALENDAR