BEGIN:VCALENDAR
VERSION:2.0
PRODID:calendify.com
BEGIN:VEVENT
UID:calendify-session-LPGMzQG0ONd
DTSTART:20231228T230000Z
SEQUENCE:0
TRANSP:OPAQUE
DTEND:20231229T010000Z
URL:https://calendify.com/session/LPGMzQG0ONd
LOCATION:Lounge
SUMMARY:Epikur
CLASS:PUBLIC
DESCRIPTION:https://calendify.com/session/LPGMzQG0ONd
DTSTAMP:20260423T031348Z
CREATED:20231227T005003Z
LAST-MODIFIED:20240401T142932Z
END:VEVENT
END:VCALENDAR