BEGIN:VCALENDAR
VERSION:2.0
PRODID:calendify.com
BEGIN:VEVENT
UID:calendify-session-LPGMzQJRONd
DTSTART:20231227T201000Z
SEQUENCE:0
TRANSP:OPAQUE
DTEND:20231227T205000Z
URL:https://calendify.com/session/LPGMzQJRONd
LOCATION:Saal Zuse
SUMMARY:Music on Mars? A Musical Adventure for Astronauts and the Space Cad
 ets Who Love Them.
CLASS:PUBLIC
DESCRIPTION:https://calendify.com/session/LPGMzQJRONd
DTSTAMP:20260423T043434Z
CREATED:20231215T204819Z
LAST-MODIFIED:20240401T142932Z
END:VEVENT
END:VCALENDAR