BEGIN:VCALENDAR
VERSION:2.0
PRODID:calendify.com
BEGIN:VEVENT
UID:calendify-session-LPGMzQKAONd
DTSTART:20231227T140000Z
SEQUENCE:0
TRANSP:OPAQUE
DTEND:20231227T144000Z
URL:https://calendify.com/session/LPGMzQKAONd
LOCATION:Fireshonks
SUMMARY:Tabellenkalkulation mit COBOL
CLASS:PUBLIC
DESCRIPTION:https://calendify.com/session/LPGMzQKAONd
DTSTAMP:20260423T030736Z
CREATED:20231218T013831Z
LAST-MODIFIED:20240401T142932Z
END:VEVENT
END:VCALENDAR